BEGIN:VCALENDAR
VERSION:2.0
PRODID:icalendar-ruby
CALSCALE:GREGORIAN
METHOD:PUBLISH
BEGIN:VEVENT
DTSTAMP:20260420T221413Z
UID:7-683206@christschurchatlillian.com
DTSTART:20261011T160000Z
DTEND:20261011T170000Z
CLASS:PUBLIC
CREATED:20260420T143954
DESCRIPTION:
LAST-MODIFIED:20260420T143954
LOCATION:
SUMMARY:Sunday Worship Service
URL;VALUE=URI:https://www.christschurchatlillian.com/events/sunday-worship-
 service/2026-10-11
ATTACH;FILENAME=bible_crosses-21.jpg;FMTTYPE=image/jpeg:https://dq5pwpg1q8r
 u0.cloudfront.net/2024/04/14/02/10/01/19bf935a-6382-4fd1-9c4a-6e42fa51f260
 /bible_crosses-21.jpg
END:VEVENT
END:VCALENDAR
