BEGIN:VCALENDAR
VERSION:2.0
PRODID:icalendar-ruby
CALSCALE:GREGORIAN
METHOD:PUBLISH
BEGIN:VEVENT
DTSTAMP:20260420T094917Z
UID:11-681481@christschurchatlillian.com
DTSTART:20261025T141500Z
DTEND:20261025T144500Z
CLASS:PUBLIC
CREATED:20260420T020930
DESCRIPTION:
LAST-MODIFIED:20260420T020930
LOCATION:
SUMMARY:Prayer Group
URL;VALUE=URI:https://www.christschurchatlillian.com/events/prayer-group/20
 26-10-25
ATTACH;FILENAME=wvOY.jpg;FMTTYPE=image/jpeg:https://dq5pwpg1q8ru0.cloudfron
 t.net/2024/04/14/02/17/10/1da78ac3-27f3-47e8-b8c2-2533d6609b56/wvOY.jpg
END:VEVENT
END:VCALENDAR
